BEGIN:VCALENDAR
VERSION:2.0
PRODID:-//Alexandra du Bois - ECPv4.1.2//NONSGML v1.0//EN
CALSCALE:GREGORIAN
METHOD:PUBLISH
X-WR-CALNAME:Alexandra du Bois
X-ORIGINAL-URL:https://alexandradubois.com
X-WR-CALDESC:Events for Alexandra du Bois
BEGIN:VEVENT
DTSTART;TZID=UTC+0:20190312T190000
DTEND;TZID=UTC+0:20190312T190000
DTSTAMP:20260425T003738
CREATED:20180605T193726
LAST-MODIFIED:20190222T112540
UID:17320-1552417200-1552417200@alexandradubois.com
SUMMARY:World Première of Quintet: 'Quiescence' for bass clarinet\, piano and strings Commissioned by the Institut Curie in Paris
DESCRIPTION:Institut Curie\, Paris\, in coordination with the MUSE-IC Project and Université Paris Sciences & Lettres (PSL) will present the world premiere of the new work by Alexandra du Bois at Salle Cortot in Paris.\n\nThe quintet for bass clarinet\, piano and strings was commissioned by the Curie Institute in Paris and is inspired by current scientific research in the field of molecular biology.\nMore information about the piece and project is available here:\nhttps://institut-curie.org/page/composers-muse-ic-project\nhttps://curie.fr/page/muse-ic-quand-science-et-musique-se-rencontrent\n
URL:https://alexandradubois.com/event/world-premiere-new-work-commissioned-by-the-institut-curie-in-paris/
LOCATION:78 Rue Cardinet\, Paris\, France
ATTACH;FMTTYPE=image/jpeg:https://alexandradubois.com/wp-content/uploads/2018/06/imageedit_2_7952327128.jpg
END:VEVENT
END:VCALENDAR