BEGIN:VCALENDAR
VERSION:2.0
PRODID:-//Alexandra du Bois - ECPv4.1.2//NONSGML v1.0//EN
CALSCALE:GREGORIAN
METHOD:PUBLISH
X-WR-CALNAME:Alexandra du Bois
X-ORIGINAL-URL:https://alexandradubois.com
X-WR-CALDESC:Events for Alexandra du Bois
BEGIN:VEVENT
DTSTART;VALUE=DATE:20230731
DTEND;VALUE=DATE:20230731
DTSTAMP:20260424T203110
CREATED:20230516
LAST-MODIFIED:20230517
UID:17626-1690761600-1690847999@alexandradubois.com
SUMMARY:Upcoming 2023-24 Season Concerts and New Website Launch - to be announced soon
DESCRIPTION:Upcoming 2023-24 Season Concerts and New Website Launch - to be announced soon. Meanwhile\, please check "Previous Events" below for partial listing of past events\, not listed chronologically due to website error.  New Website Launch scheduled for 2023. Musical excerpts available on SoundCloud and imagery on Instagram.\n\n \n\nSpring '23 performances of du Bois' music were given by ensembles including Asheville Symphony Orchestra\,Tallahassee Symphony\, Boston Festival Orchestra\, Radius Ensemble\, Neave Trio\, and soloist Kathleen Supové. For more information about these past concerts and others\, visit "Previous Events" on the Events Page.
URL:https://alexandradubois.com/event/upcoming-2023-24-season-concerts-and-new-website-launch-to-be-announced-soon/
END:VEVENT
END:VCALENDAR