BEGIN:VCALENDAR
VERSION:2.0
PRODID:-//Alexandra du Bois - ECPv4.1.2//NONSGML v1.0//EN
CALSCALE:GREGORIAN
METHOD:PUBLISH
X-WR-CALNAME:Alexandra du Bois
X-ORIGINAL-URL:https://alexandradubois.com
X-WR-CALDESC:Events for Alexandra du Bois
BEGIN:VEVENT
DTSTART;TZID=UTC+0:20230422T193000
DTEND;TZID=UTC+0:20230422T210000
DTSTAMP:20260424T204556
CREATED:20230516T180101
LAST-MODIFIED:20230516T180101
UID:17618-1682191800-1682197200@alexandradubois.com
SUMMARY:The Neave Trio perform the music of Alexandra du Bois
DESCRIPTION:The Neave Trio perform the music of Alexandra du Bois\nPROGRAM\nApril 22nd\, 2023 at 7:30pm \nChamber Music Tulsa - Tulsa\, OK\nAlexandra du Bois ~ L’Apothéose d’un Rêve\nRavel ~ Trio\n
URL:https://alexandradubois.com/event/the-neave-trio-perform-the-music-of-alexandra-du-bois/
LOCATION:Chamber Music Tulsa\, Tusla\, United States
ATTACH;FMTTYPE=image/jpeg:https://alexandradubois.com/wp-content/uploads/2023/05/NeaveTrio1_byLisaMarieMazzucco.jpg
END:VEVENT
END:VCALENDAR