BEGIN:VCALENDAR
VERSION:2.0
PRODID:-//Alexandra du Bois - ECPv4.1.2//NONSGML v1.0//EN
CALSCALE:GREGORIAN
METHOD:PUBLISH
X-WR-CALNAME:Alexandra du Bois
X-ORIGINAL-URL:https://alexandradubois.com
X-WR-CALDESC:Events for Alexandra du Bois
BEGIN:VEVENT
DTSTART;TZID=UTC+0:20170901T200000
DTEND;TZID=UTC+0:20170901T220000
DTSTAMP:20260425T005810
CREATED:20170815T192408
LAST-MODIFIED:20170815T192408
UID:17233-1504296000-1504303200@alexandradubois.com
SUMMARY:Second Performance of Fjord for solo piano at New York City’s Bargemusic
DESCRIPTION:New York City virtuoso pianist Kathleen Supové will present the world premiere of du Bois’ new solo piano work\, Fjord on 30 August\, 2017 with a second performance on September 1st. Bargemusic is New York City’s only floating concert hall\, and was the place of premiere of du Bois’ trio for clarinet\, cello and piano\, Soleil sur mer\, which was described by the New York Times as “contemplative\, lyrical…evoked gloomy skies with a melancholy cello melody and wistful intertwining of the dark colors of the clarinet and the cello. The musical clouds parted for the brighter mood and jaunty melodies of the second movement\, subtitled’L’Été’ (‘Summer’)\, although there were reflective moments amid the sunshine….composed with the understanding of a painter who knows exactly where her picture will be hung.” Like Soleil sur mer (2007)\, which incorporated barcarolles (Venetian boat songs) Fjord for solo piano (2017) is also inspired by elements of the sea.
URL:https://alexandradubois.com/event/second-performance-of-fjord-for-solo-piano-at-new-york-citys-bargemusic/
LOCATION:Brooklyn\, NY\, United States
ATTACH;FMTTYPE=image/jpeg:https://alexandradubois.com/wp-content/uploads/2017/05/bargemusic.jpg
END:VEVENT
END:VCALENDAR