BEGIN:VCALENDAR
VERSION:2.0
PRODID:-//Alexandra du Bois - ECPv4.1.2//NONSGML v1.0//EN
CALSCALE:GREGORIAN
METHOD:PUBLISH
X-WR-CALNAME:Alexandra du Bois
X-ORIGINAL-URL:https://alexandradubois.com
X-WR-CALDESC:Events for Alexandra du Bois
BEGIN:VEVENT
DTSTART;TZID=UTC+0:20230618T180000
DTEND;TZID=UTC+0:20230618T200000
DTSTAMP:20260424T202602
CREATED:20230517T210744
LAST-MODIFIED:20230517T210744
UID:17628-1687111200-1687118400@alexandradubois.com
SUMMARY:Richmond Philharmonic Orchestra to Perform du Bois' 'Fanfare'
DESCRIPTION:Richmond Philharmonic Orchestra to Perform du Bois' 'Fanfare'. Alexandra du Bois' Fanfare' was written in 2008 in honor of the first African American to hold office of President of the United States and was premiered by the Anchorage Symphony. The work has since been performed dozens of times by orchestras throughout the United States.
URL:https://alexandradubois.com/event/richmond-philharmonic-orchestra-to-perform-du-bois-fanfare/
LOCATION:Richmond\, VA\, United States
END:VEVENT
END:VCALENDAR