BEGIN:VCALENDAR
VERSION:2.0
PRODID:-//Alexandra du Bois - ECPv4.1.2//NONSGML v1.0//EN
CALSCALE:GREGORIAN
METHOD:PUBLISH
X-WR-CALNAME:Alexandra du Bois
X-ORIGINAL-URL:https://alexandradubois.com
X-WR-CALDESC:Events for Alexandra du Bois
BEGIN:VEVENT
DTSTART;TZID=UTC+0:20181116T190000
DTEND;TZID=UTC+0:20181116T220000
DTSTAMP:20260424T230324
CREATED:20181024T202644
LAST-MODIFIED:20181024T203507
UID:17340-1542394800-1542405600@alexandradubois.com
SUMMARY:'Queen Jane' for Solo Piano to be Premiered by Pianist Brianna Matzke at Woodward Theater\, Cincinnati\, USA
DESCRIPTION:The Response Project is a commissioning initiative that asks composers to write a piece of music in response to a pre-existing work or idea. Twelve composers\, nine filmmakers\, and six multidisciplinary artists create a community-wide artistic response to Bob Dylan's 1965  album Highway 61 Revisited. Alexandra du Bois' new work for solo piano is a response to Dylan's 1965 song\, Queen Jane Approximately and was commissioned by Brianna Matzke for The Response Project.\n 
URL:https://alexandradubois.com/event/queen-jane-for-solo-piano-to-be-premiered-by-pianist-brianna-matzke-at-the-woodward-theater-cincinnati-usa/
LOCATION:1404 Main Street\, Cincinnati\, OH\, United States
ATTACH;FMTTYPE=image/jpeg:https://alexandradubois.com/wp-content/uploads/2018/10/R-1221608-1201719241.gif.jpg
END:VEVENT
END:VCALENDAR