BEGIN:VCALENDAR
VERSION:2.0
PRODID:-//Alexandra du Bois - ECPv4.1.2//NONSGML v1.0//EN
CALSCALE:GREGORIAN
METHOD:PUBLISH
X-WR-CALNAME:Alexandra du Bois
X-ORIGINAL-URL:https://alexandradubois.com
X-WR-CALDESC:Events for Alexandra du Bois
BEGIN:VEVENT
DTSTART;TZID=UTC+0:20180310T193000
DTEND;TZID=UTC+0:20180310T210000
DTSTAMP:20260424T225549
CREATED:20180214T171822
LAST-MODIFIED:20180215T012625
UID:17277-1520710200-1520715600@alexandradubois.com
SUMMARY:Pianist Kathleen Supové Performs Fjord
DESCRIPTION:Pianist Kathleen Supové brings the work for solo piano she commissioned and subsequently premiered at Bargemusic NYC in August 2017 to Cambridge\, Massachusetts.\n\nFjord for solo piano (2017) was inspired by the fjord-scape (in its obvious inherent beauty but more so in its mist-filled\, murky\,  submerged\, and ominous\, sub-rosa characteristics) as well as by the composer's recently discovered distant Norwegian lineage.
URL:https://alexandradubois.com/event/pianist-kathleen-supove-performs-fjord/
LOCATION:25 Lowell Street\, Cambridge\, MA\, United States
ATTACH;FMTTYPE=image/png:https://alexandradubois.com/wp-content/uploads/2018/02/fjord-image.png
END:VEVENT
END:VCALENDAR