BEGIN:VCALENDAR
VERSION:2.0
PRODID:-//Alexandra du Bois - ECPv4.1.2//NONSGML v1.0//EN
CALSCALE:GREGORIAN
METHOD:PUBLISH
X-WR-CALNAME:Alexandra du Bois
X-ORIGINAL-URL:https://alexandradubois.com
X-WR-CALDESC:Events for Alexandra du Bois
BEGIN:VEVENT
DTSTART;VALUE=DATE:20191005
DTEND;VALUE=DATE:20191005
DTSTAMP:20260424T223707
CREATED:20190718
LAST-MODIFIED:20190818
UID:17390-1570233600-1570319999@alexandradubois.com
SUMMARY:Pianist Anastasia Antonacos to Premiere 'Oh Monarch\, How Beautiful You Are'
DESCRIPTION:Pianist Anastasia Antonacos will present the world premiere of the new work 'Oh Monarch\, How Beautiful You Are' for solo piano she commissioned from composer Alexandra du Bois in 2018. The new work was commissioned jointly by Maine and New Hampshire Music Teachers Association and Music Teachers National Association. It was written\, in part\, while du Bois was composer-in-residence at Harrison House Music\, Arts & Ecology\, Joshua Tree\, California and at Avaloch Farm Music Institute\, Boscawen\, New Hampshire (with Parhelion Trio for their collaboration with du Bois on their Vera Rubin: Dark Matter project) during 2019. Oh Monarch\, How Beautiful You Are invites sonic meditation on evidence of climate change in the Northeastern United States and simultaneously with internal recitation of gathas from peace activist\, writer\, poet\, teacher\, and Zen Buddhist monk Thich Nhat Hanh.  Antonacos will perform the work at Rose Performance Hall at the Manninen Center for the Arts during the 2019 Quad State Conference. More info to be announced.\n\n 
URL:https://alexandradubois.com/event/pianist-anastasia-antonacos-to-premiere-newly-commissioned-solo-work/
ATTACH;FMTTYPE=image/jpeg:https://alexandradubois.com/wp-content/uploads/2019/07/AA.jpg
END:VEVENT
END:VCALENDAR