BEGIN:VCALENDAR
VERSION:2.0
PRODID:-//Alexandra du Bois - ECPv4.1.2//NONSGML v1.0//EN
CALSCALE:GREGORIAN
METHOD:PUBLISH
X-WR-CALNAME:Alexandra du Bois
X-ORIGINAL-URL:https://alexandradubois.com
X-WR-CALDESC:Events for Alexandra du Bois
BEGIN:VEVENT
DTSTART;TZID=UTC+0:20180421T190000
DTEND;TZID=UTC+0:20180421T220000
DTSTAMP:20260424T225851
CREATED:20180404T212819
LAST-MODIFIED:20180404T213626
UID:17291-1524337200-1524348000@alexandradubois.com
SUMMARY:Paracademia to Present "Fjord" for solo piano at Gallery MC in Manhattan
DESCRIPTION:\n\n"Fusing Music\, Fashion and Technology\, this long-overdue concept is debuting with Piano Divas\, April 21st at Gallery MC. Paracademia will present three pianists extraordinaire\, playing contemporary music outfitted with technology-enhanced stage apparel (AKA Tek-Cessories) by Milica Paranosic."\n\nPianist Kathleen Supové will perform Alexandra du Bois' Fjord\, a work Supové commissioned and premiered in 2017.\n\nPROGRAM\n7 pm reception and fashion show with models/performance artists: Singers Hai-Ting Chinn\, Jordan Rutter and Christin Byrdsong\, Flutist Margaret Lancaster\, actor Valerie Geffner\, and others. The make-up will be provided by a Brooklyn based artist Aya Tariq\n\n\n7:30 pm - concert\, set 1 - Kathleen Supové\n\n\n8 pm - concert\, set 2 - Matt Herskowitz\n\n8:30 pm - concert\, set 3 - Danica Borisavljević\n\n9 pm - afterparty and photoshoot\n\n 
URL:https://alexandradubois.com/event/paracademia-to-present-fjord-for-solo-piano-at-gallery-mc-in-manhattan/
ATTACH;FMTTYPE=image/jpeg:https://alexandradubois.com/wp-content/uploads/2018/04/0928b2b286cbd1aff4126e96d64c6255.jpg
END:VEVENT
END:VCALENDAR