BEGIN:VCALENDAR
VERSION:2.0
PRODID:-//Alexandra du Bois - ECPv4.1.2//NONSGML v1.0//EN
CALSCALE:GREGORIAN
METHOD:PUBLISH
X-WR-CALNAME:Alexandra du Bois
X-ORIGINAL-URL:https://alexandradubois.com
X-WR-CALDESC:Events for Alexandra du Bois
BEGIN:VEVENT
DTSTART;VALUE=DATE:20110326
DTEND;VALUE=DATE:20110326
DTSTAMP:20260425T024043
CREATED:20150405
LAST-MODIFIED:20150405
UID:16623-1301097600-1301183999@alexandradubois.com
SUMMARY:PALS Children's Chorus Premieres Alexandra du Bois Latest Choral Work\, "The Quechol’s Cry" in Cambridge\, Massachusetts
DESCRIPTION:WORLD PREMIERE of Alexandra du Bois' Prologue: The Quechol's Cry for large children's choir\, string quartet and prepared piano\n\nThe libretto was compiled and edited by PALS Children's Chorus conductor and Artistic Director Alysoun Kegel - along with composer Alexandra du Bois. The libretto is a combination of text\, flashpoints and inherent inspiration from the Nahuatl people and Native American cultures.Prologue: The Quechol's Cry was commissioned by PALS Children's Chorus\, Boston\, Massachusetts.\n\nPALS Children's Chorus at First Church Cambridge\, Cambridge\, Massachusetts - PALS Children's Chorus plus prepared piano and string quartet - 26 March 2011\n\n \n\n 
URL:https://alexandradubois.com/event/pals-childrens-chorus-premieres-alexandra-du-bois-latest-choral-work-the-quechols-cry-in-cambridge-massachusetts/
LOCATION:Boston\, MA\, United States
ATTACH;FMTTYPE=image/jpeg:https://alexandradubois.com/wp-content/uploads/2015/04/images.jpg
END:VEVENT
END:VCALENDAR