BEGIN:VCALENDAR
VERSION:2.0
PRODID:-//Alexandra du Bois - ECPv4.1.2//NONSGML v1.0//EN
CALSCALE:GREGORIAN
METHOD:PUBLISH
X-WR-CALNAME:Alexandra du Bois
X-ORIGINAL-URL:https://alexandradubois.com
X-WR-CALDESC:Events for Alexandra du Bois
BEGIN:VEVENT
DTSTART;TZID=UTC+0:20230312T150000
DTEND;TZID=UTC+0:20230312T170000
DTSTAMP:20260424T205451
CREATED:20230516T175802
LAST-MODIFIED:20230516T175802
UID:17614-1678633200-1678640400@alexandradubois.com
SUMMARY:Neave Trio perform music of Alexandra du Bois
DESCRIPTION:The Neave Trio perform the music of Alexandra du Bois.\n\nPROGRAM\nMarch 12th\, 2023\, 3pm\nWaverly Chamber Music Concerts - Waverly\, IA\nAlexandra du Bois ~ L’Apothéose d’un Rêve\nJosef Suk ~ Piano Trio\, Op. 2\nRavel ~ Trio\n
URL:https://alexandradubois.com/event/neave-trio-perform-music-of-alexandra-du-bois/
LOCATION:Waverly Chamber Music Concerts\, Waverly\, United States
ATTACH;FMTTYPE=image/jpeg:https://alexandradubois.com/wp-content/uploads/2023/05/NeaveTrio1_byLisaMarieMazzucco.jpg
END:VEVENT
END:VCALENDAR