BEGIN:VCALENDAR
VERSION:2.0
PRODID:-//Alexandra du Bois - ECPv4.1.2//NONSGML v1.0//EN
CALSCALE:GREGORIAN
METHOD:PUBLISH
X-WR-CALNAME:Alexandra du Bois
X-ORIGINAL-URL:https://alexandradubois.com
X-WR-CALDESC:Events for Alexandra du Bois
BEGIN:VEVENT
DTSTART;VALUE=DATE:20160506
DTEND;VALUE=DATE:20160506
DTSTAMP:20260425T040620
CREATED:20150405
LAST-MODIFIED:20150406
UID:16612-1462492800-1462579199@alexandradubois.com
SUMMARY:Marin Alsop Leads Baltimore Symphony Orchestra in Performance of du Bois' "Beneath Boundaries"
DESCRIPTION:"The radio series Hidden World of Girls by NPR’s Kitchen Sisters explores the diverse lives of girls and the women they become—stories of coming of age\, rituals and rites of passage\, secret identities—women who crossed a line\, blazed a trail\, changed the tide. The musical adaptation by [four] leading female composers brings those stories to the concert hall in a dramatic multimedia experience." -BSO\n\nAlexandra du Bois' Beneath Boundaries for symphony orchestra finds its inspiration in the life and photography of Iranian photographer Shadi Ghadirian and was commissioned and premiered by the 2012 Cabrillo Festival\, Marin Alsop\, conductor\n\n 
URL:https://alexandradubois.com/event/marin-alsop-leads-the-baltimore-symphony-orchestra-in-performance-of-du-bois-beneath-boundaries/
LOCATION:Baltimore\, MD\, United States
ATTACH;FMTTYPE=image/png:https://alexandradubois.com/wp-content/uploads/2015/02/Screen-Shot-2015-02-03-at-4.03.31-PM.png
END:VEVENT
END:VCALENDAR