BEGIN:VCALENDAR
VERSION:2.0
PRODID:-//Alexandra du Bois - ECPv4.1.2//NONSGML v1.0//EN
CALSCALE:GREGORIAN
METHOD:PUBLISH
X-WR-CALNAME:Alexandra du Bois
X-ORIGINAL-URL:https://alexandradubois.com
X-WR-CALDESC:Events for Alexandra du Bois
BEGIN:VEVENT
DTSTART;VALUE=DATE:20150521
DTEND;VALUE=DATE:20150521
DTSTAMP:20260425T023643
CREATED:20150408
LAST-MODIFIED:20150502
UID:16630-1432166400-1432252799@alexandradubois.com
SUMMARY:Manhattan's Duplexity Project to Perform du Bois' "Interstices of Aurorae"
DESCRIPTION:Interstices of Aurorae (2010) for clarinet and 'cello was commissioned by Azure Ensemble and was written while in-residence at the Harrison House Artist Residency in Joshua Tree\, California (and dedicated to Eva Soltes). A special arrangement of the work for Duplexity founder and violinist Elissa Cassini for violin and 'cello will be premiered by Cassini and cellist Ashley Bathgate (of Bang on a Can) on 21 May 2015. More details to be announced here soon.\n\nFor more information about filmmaker\, music producer\, dancer and artist Eva Soltes\, please visit the Harrison House. Thank you to the late and beloved Lou Harrison.\n\n[caption id="attachment_16161" align="alignnone" width="300"] Alexandra du Bois in residence at the Harrison House Artist Residency\, Joshua Tree\, California. Photo copyright Eva Soltes ©2015[/caption]\n\n 
URL:https://alexandradubois.com/event/manhattans-duplexity-project-to-perform-du-bois-interstices-of-aurorae/
LOCATION:New York\, NY\, United States
ATTACH;FMTTYPE=image/jpeg:https://alexandradubois.com/wp-content/uploads/2015/04/puddingstone.jpg
END:VEVENT
END:VCALENDAR