BEGIN:VCALENDAR
VERSION:2.0
PRODID:-//Alexandra du Bois - ECPv4.1.2//NONSGML v1.0//EN
CALSCALE:GREGORIAN
METHOD:PUBLISH
X-WR-CALNAME:Alexandra du Bois
X-ORIGINAL-URL:https://alexandradubois.com
X-WR-CALDESC:Events for Alexandra du Bois
BEGIN:VEVENT
DTSTART;TZID=UTC+0:20190503T200000
DTEND;TZID=UTC+0:20190503T200000
DTSTAMP:20260425T004008
CREATED:20180605T202231
LAST-MODIFIED:20180605T202231
UID:17325-1556913600-1556913600@alexandradubois.com
SUMMARY:Lynchburg Symphony Orchestra to Perform Alexandra du Bois' Fanfare for orchestra
DESCRIPTION:The Lynchburg Symphony Orchestra in Virginia will perform Alexandra du Bois' Fanfare for orchestra. Conductor Christopher Swanson will lead the LSO in a performance of the 2009 work at the new Academy of the Arts in Lynchburg\, Virginia. More information to be announced summer 2018.
URL:https://alexandradubois.com/event/lynchburg-symphony-orchestra-to-perform-alexandra-du-bois-fanfare-for-orchestra/
LOCATION:600 Main Street\, Lynchburg\, VA\, United States
ATTACH;FMTTYPE=image/jpeg:https://alexandradubois.com/wp-content/uploads/2018/06/imageedit_5_3424578379.jpg
END:VEVENT
END:VCALENDAR