BEGIN:VCALENDAR
VERSION:2.0
PRODID:-//Alexandra du Bois - ECPv4.1.2//NONSGML v1.0//EN
CALSCALE:GREGORIAN
METHOD:PUBLISH
X-WR-CALNAME:Alexandra du Bois
X-ORIGINAL-URL:https://alexandradubois.com
X-WR-CALDESC:Events for Alexandra du Bois
BEGIN:VEVENT
DTSTART;TZID=UTC+0:20241019T193000
DTEND;TZID=UTC+0:20241019T213000
DTSTAMP:20260424T204006
CREATED:20240610T191937
LAST-MODIFIED:20240610T204018
UID:17680-1729366200-1729373400@alexandradubois.com
SUMMARY:Lima Symphony Orchestra to Perform Alexandra du Bois
DESCRIPTION:The Lima Symphony Orchestra will perform composer Alexandra du Bois’ Fanfare for Orchestra\, conducted by Andrew Crust\, during their 2024-25 season. View the Lima Symphony Orchestra's website for tickets\, here.  Fanfare for orchestra (2008) was written during the several months between the election and inauguration of the first African American to hold office of President of the United States and celebrates this and includes a quote from the hymn written by Rev. Charles Tindley in 1901 which later became the civil rights anthem\, We Shall Overcome. Fanfare was commissioned (2008) and premiered (January\, 2009) by the Anchorage Symphony.
URL:https://alexandradubois.com/event/lima-symphony-orchestra-performs-alexandra-du-bois/
END:VEVENT
END:VCALENDAR