BEGIN:VCALENDAR
VERSION:2.0
PRODID:-//Alexandra du Bois - ECPv4.1.2//NONSGML v1.0//EN
CALSCALE:GREGORIAN
METHOD:PUBLISH
X-WR-CALNAME:Alexandra du Bois
X-ORIGINAL-URL:https://alexandradubois.com
X-WR-CALDESC:Events for Alexandra du Bois
BEGIN:VEVENT
DTSTART;VALUE=DATE:20200216
DTEND;VALUE=DATE:20200216
DTSTAMP:20260424T205322
CREATED:20190716
LAST-MODIFIED:20190716
UID:17386-1581811200-1581897599@alexandradubois.com
SUMMARY:Fort Dodge Symphony to Perform Fanfare for Orchestra
DESCRIPTION:Conductor Joshua Barlage leads the Fort Dodge Symphony Orchestra in a performance of Alexandra du Bois' Fanfare for orchestra. Originally commissioned and premiered by the Anchorage Symphony with conductor Randall Craig Fleischer in 2008\, du Bois wrote Fanfare in honor of the inauguration of the first African American to hold office of President of the United States in 2009. It has since been performed throughout the United States. 
URL:https://alexandradubois.com/event/fort-dodge-symphony-to-perform-fanfare-for-orchestra/
LOCATION:Fort Dodge\, IA\, United States
ATTACH;FMTTYPE=image/jpeg:https://alexandradubois.com/wp-content/uploads/2015/03/fon-home3.jpg
END:VEVENT
END:VCALENDAR