BEGIN:VCALENDAR
VERSION:2.0
PRODID:-//Alexandra du Bois - ECPv4.1.2//NONSGML v1.0//EN
CALSCALE:GREGORIAN
METHOD:PUBLISH
X-WR-CALNAME:Alexandra du Bois
X-ORIGINAL-URL:https://alexandradubois.com
X-WR-CALDESC:Events for Alexandra du Bois
BEGIN:VEVENT
DTSTART;TZID=UTC+0:20190129T190000
DTEND;TZID=UTC+0:20190129T210000
DTSTAMP:20260424T225604
CREATED:20181203T120609
LAST-MODIFIED:20181203T164545
UID:17345-1548788400-1548795600@alexandradubois.com
SUMMARY:Du Bois: The Speaking Tide at Carnegie Hall
DESCRIPTION:Mimesis Ensemble to perform Alexandra du Bois' The Speaking Tide for bass clarinet\, cello and piano at Weill Hall at Carnegie Hall. The Speaking Tide was written for the Dance Division at The Juilliard School in New York and was premiered at Peter Jay Sharp Theatre in 2007 with a core of eight dancers choreographed by Spenser Theberge. More information to be announced winter 2018. Mimesis Ensemble\, the New York City based ensemble dedicated to the mastery of music from the 20th and 21st centuries founded by Katie Reimer\, previously presented a performance of du Bois' third string quartet in 2013.\n\n 
URL:https://alexandradubois.com/event/du-bois-the-speaking-tide-at-carnegie-hall/
LOCATION:881 7th Ave\, New York\, 10019\, United States
ATTACH;FMTTYPE=image/jpeg:https://alexandradubois.com/wp-content/uploads/2018/12/download.jpg
END:VEVENT
END:VCALENDAR