BEGIN:VCALENDAR
VERSION:2.0
PRODID:-//Alexandra du Bois - ECPv4.1.2//NONSGML v1.0//EN
CALSCALE:GREGORIAN
METHOD:PUBLISH
X-WR-CALNAME:Alexandra du Bois
X-ORIGINAL-URL:https://alexandradubois.com
X-WR-CALDESC:Events for Alexandra du Bois
BEGIN:VEVENT
DTSTART;TZID=UTC+0:20220403T190000
DTEND;TZID=UTC+0:20220403T200000
DTSTAMP:20260424T223019
CREATED:20220209T232433
LAST-MODIFIED:20220209T232433
UID:17487-1649012400-1649016000@alexandradubois.com
SUMMARY:Cramer Quartet Premieres du Bois' String Quartet No. 6
DESCRIPTION:An Excerpt from String Quartet no. 6\, commissioned by Cramer Quartet\, will premiere on April 3rd\, 2022\, 4 months before the WP of the entire work in August. More information to be released. https://www.cramerquartet.com\nHaydn: Dialogues is a multi-season commissioning project that reimagines the traditional string quartet cycle. Over the course of the next ten seasons\, concluding in 2032 (Haydn’s 300th birth anniversary)\, the Cramer Quartet will perform Haydn’s 68 string quartets alongside newly commissioned works by composers of marginalized identities. Each commission is an invitation to respond to an opus from Haydn’s string quartet oeuvre in the composer’s own musical voice\, writing specifically for historical instruments.\nThe first installment of Haydn: Dialogues will premiere in New York City on April 3\, 2022 with a new work by American composer Alexandra du Bois performed alongside Haydn’s Op. 20 No. 3 and Op. 20 No. 6 quartets.\nWith this project\, the quartet marries its passion for historical performance with a commitment to rebalancing the string quartet canon by centering the voices of women\, non-(cis)males\, BIPOC\, LGBTQ+ folx and other communities historically underrepresented in classical music.
URL:https://alexandradubois.com/event/cramer-quartet-premieres-du-bois-string-quartet-no-6/
LOCATION:New York\, NY\, United States
ATTACH;FMTTYPE=image/png:https://alexandradubois.com/wp-content/uploads/2022/02/cramer-quartet-2021.png
END:VEVENT
END:VCALENDAR