BEGIN:VCALENDAR
VERSION:2.0
PRODID:-//Alexandra du Bois - ECPv4.1.2//NONSGML v1.0//EN
CALSCALE:GREGORIAN
METHOD:PUBLISH
X-WR-CALNAME:Alexandra du Bois
X-ORIGINAL-URL:https://alexandradubois.com
X-WR-CALDESC:Events for Alexandra du Bois
BEGIN:VEVENT
DTSTART;TZID=UTC+0:20161204T190000
DTEND;TZID=UTC+0:20161204T190000
DTSTAMP:20260425T021912
CREATED:20161202T204806
LAST-MODIFIED:20161202T204806
UID:17203-1480878000-1480878000@alexandradubois.com
SUMMARY:Cochlea Duo performs du Bois in Switzerland
DESCRIPTION:I Wonder as I Wander (2006) will be performed by the Cochlea Duo (Chelsea Czuchra\, flute and Lindsay Buffington\, harp).\n\nCommissioned by Maya Trio. Arrangement of John Jacob Nile’s adaptation of the Appalachian folk carol ‘I Wonder as I Wander’ including original material by Alexandra du Bois\nReleased on album MAYA: In The Spirit on Perspectives Recordings 2007
URL:https://alexandradubois.com/event/cochlea-duo-performs-du-bois-in-switzerland/
ATTACH;FMTTYPE=image/jpeg:https://alexandradubois.com/wp-content/uploads/2016/12/Chelsea_und_Lindsay_15.03.15-72_Kopie5.jpg
END:VEVENT
END:VCALENDAR