BEGIN:VCALENDAR
VERSION:2.0
PRODID:-//Alexandra du Bois - ECPv4.1.2//NONSGML v1.0//EN
CALSCALE:GREGORIAN
METHOD:PUBLISH
X-WR-CALNAME:Alexandra du Bois
X-ORIGINAL-URL:https://alexandradubois.com
X-WR-CALDESC:Events for Alexandra du Bois
BEGIN:VEVENT
DTSTART;VALUE=DATE:20120729
DTEND;VALUE=DATE:20120729
DTSTAMP:20260425T041950
CREATED:20150131
LAST-MODIFIED:20150405
UID:15818-1343520000-1343606399@alexandradubois.com
SUMMARY:Cabrillo Festival Orchestra Premieres du Bois' Latest Symphonic Work in Santa Cruz\, California
DESCRIPTION:WORLD PREMIERE of du Bois' new symphonic work commissioned and performed by the Cabrillo Festival Orchestra conducted by Marin Alsop. Constructed from the beginning to encompass varying degrees of multimedia\, spoken word and personal stories via NPR's Kitchen Sisters\, du Bois' latest symphonic work will be premiered during an evening-length multimedia show during the 50th anniversary of the Cabrillo Festival in 2012. Alexandra du Bois’ Beneath Boundaries finds its inspiration in the life and photography of Iranian photographer Shadi Ghadirian.\n\n"The radio series Hidden World of Girls by NPR’s Kitchen Sisters explores the diverse lives of girls and the women they become—stories of coming of age\, rituals and rites of passage\, secret identities—women who crossed a line\, blazed a trail\, changed the tide. The musical adaptation by [four] leading female composers brings those stories to the concert hall in a dramatic multimedia experience."\n\n2012 Cabrillo Festival\, Santa Cruz\, California - performed by the Cabrillo Festival Orchestra\, Marin Alsop\, conductor - 29 & 30 July 2012
URL:https://alexandradubois.com/event/cabrillo-festival-premieres-du-bois-latest-symphonic-work-in-santa-cruz-california/
LOCATION:Santa Cruz\, CA\, United States
ATTACH;FMTTYPE=image/png:https://alexandradubois.com/wp-content/uploads/2015/02/Screen-Shot-2015-02-03-at-4.03.31-PM.png
END:VEVENT
END:VCALENDAR