BEGIN:VCALENDAR
VERSION:2.0
PRODID:-//Alexandra du Bois - ECPv4.1.2//NONSGML v1.0//EN
CALSCALE:GREGORIAN
METHOD:PUBLISH
X-WR-CALNAME:Alexandra du Bois
X-ORIGINAL-URL:https://alexandradubois.com
X-WR-CALDESC:Events for Alexandra du Bois
BEGIN:VEVENT
DTSTART;TZID=UTC+0:20230429T200000
DTEND;TZID=UTC+0:20230429T210000
DTSTAMP:20260424T205610
CREATED:20230516T180448
LAST-MODIFIED:20230516T180449
UID:17620-1682798400-1682802000@alexandradubois.com
SUMMARY:Boston's Radius Ensemble to Perform the Music of Alexandra du Bois
DESCRIPTION:Boston's Radius Ensemble Perform the music of Alexandra du Bois\n\n\n\nFrom Radius Ensemble:\n\nSaturday\, April 29\, 2023 at 8 pm\nPickman Hall at the Longy School of Music\n\nCZERNOWIN – fardanceCLOSE for solo piano\nDU BOIS – Night Songs for wind quintet\nBRAHMS – String Sextet in G major\, Op. 36\n\nRadius brings the season to a close with two works by locals in a program of cultural and historical Reverberations. First comes a solo piano work entitled fardanceCLOSE\, written by Harvard faculty member Chaya Czernowin in 2012 (and revised in 2020)\, which explores our perception of decibels and distance. Next\, the ensemble performs an excerpt from Night Songs (Nachtliederen)\, a string quartet (2005) by Longy composition department chair Alexandra du Bois in the composer’s own 2007 arrangement for winds. Originally commissioned by the Kronos Quartet\, Night Songs is inspired by and dedicated to the life of young Dutch Jewish writer and Holocaust victim\, Etty Hillesum. The concert concludes with a Romantic bookend to match the Vaughan Williams Quintet of the first concert: the incomparable String Sextet in G Major\, Op. 36 (1864-5) by Johannes Brahms.
URL:https://alexandradubois.com/event/bostons-radius-ensemble-to-perform-the-music-of-alexandra-du-bois/
LOCATION:27 Garden Street\, Cambridge\, MA\, United States
ATTACH;FMTTYPE=image/png:https://alexandradubois.com/wp-content/uploads/2023/05/Screenshot-2023-05-16-at-2.03.49-PM.png
END:VEVENT
END:VCALENDAR