BEGIN:VCALENDAR
VERSION:2.0
PRODID:-//Alexandra du Bois - ECPv4.1.2//NONSGML v1.0//EN
CALSCALE:GREGORIAN
METHOD:PUBLISH
X-WR-CALNAME:Alexandra du Bois
X-ORIGINAL-URL:https://alexandradubois.com
X-WR-CALDESC:Events for Alexandra du Bois
BEGIN:VEVENT
DTSTART;TZID=UTC+0:20170322T190000
DTEND;TZID=UTC+0:20170322T210000
DTSTAMP:20260425T005346
CREATED:20170128T180438
LAST-MODIFIED:20170128T180438
UID:17212-1490209200-1490216400@alexandradubois.com
SUMMARY:Bells from the Abyss Performed in Cincinnati
DESCRIPTION:Pianist Brianna Matzke and violinist Hajnal Pivnick present the Cincinnati premiere of the Bells from the Abyss.  The new work for violin and piano was commissioned as part of Matzke and Pivnick's Response Project inspired by Killer Mike and Stephen Colbert.  More information to be announced.\n\nDu Bois was asked to write a work in response to one simple phrase: ON BEHALF. The phrase "ON BEHALF" was drawn from an exchange between Killer Mike and Stephen Colbert on The Late Show.\n\nDu Bois was invited to consider how this phrase impacts her personally\, politically\, and/or artistically\, as well as potential manifestations of the phrase within musical composition and performance. The new work is intended to speak "on behalf" of an idea\, person\, community\, or condition.\n\n \n\nhttps://www.youtube.com/watch?v=JhudugDROn0\n\n 
URL:https://alexandradubois.com/event/bells-from-the-abyss-performed-in-cincinnati/
END:VEVENT
END:VCALENDAR