BEGIN:VCALENDAR
VERSION:2.0
PRODID:-//Alexandra du Bois - ECPv4.1.2//NONSGML v1.0//EN
CALSCALE:GREGORIAN
METHOD:PUBLISH
X-WR-CALNAME:Alexandra du Bois
X-ORIGINAL-URL:https://alexandradubois.com
X-WR-CALDESC:Events for Alexandra du Bois
BEGIN:VEVENT
DTSTART;TZID=UTC+0:20190921T193000
DTEND;TZID=UTC+0:20190921T210000
DTSTAMP:20260424T205054
CREATED:20190807T002531
LAST-MODIFIED:20190909T011215
UID:17401-1569094200-1569099600@alexandradubois.com
SUMMARY:Apollo Chamber Players to Perform String Quartet No. 4
DESCRIPTION:Apollo Chamber Players add another performance of the string quartet they commissioned and premiered in 2017\, String Quartet No. 4: Obala (Coast). Their most recent performance of the work took place at Rothko Chapel in Houston.\n\nInternational Day of Peace Observation: Apollo Chamber Players perform du Bois\nat Rothko Chapel—Music of Peace and Reconciliation \n\nIn observation of International Day of Peace\, join the Apollo Chamber Players for a program of music for string quartet by Syrian-American and American composers including Alexandra du Bois.  Alexandra du Bois was moved by the on-going refugee crisis in Syria and by people displaced as a result of war and conflict to compose her latest string quartet\, subtitled "Obala" or "Sea Coast\," a piece about peace and knowledge that music travels over the sea and resettles along with all refugees and immigrants. Apollo Chamber Players commissioned and premiered du Bois' fourth string quartet\, Obala\, in 2016 in Houston\, Texas\n\n\n\n 
URL:https://alexandradubois.com/event/appollo-chamber-players-perform-string-quartet-no-4/
LOCATION:200 Elm High Dr\,\, Edgerton\, WI\, 53534\, United States
ATTACH;FMTTYPE=image/jpeg:https://alexandradubois.com/wp-content/uploads/2019/08/bw.jpg
END:VEVENT
END:VCALENDAR