BEGIN:VCALENDAR
VERSION:2.0
PRODID:-//Alexandra du Bois - ECPv4.1.2//NONSGML v1.0//EN
CALSCALE:GREGORIAN
METHOD:PUBLISH
X-WR-CALNAME:Alexandra du Bois
X-ORIGINAL-URL:https://alexandradubois.com
X-WR-CALDESC:Events for Alexandra du Bois
BEGIN:VEVENT
DTSTART;VALUE=DATE:20170128
DTEND;VALUE=DATE:20170128
DTSTAMP:20260425T040200
CREATED:20160805
LAST-MODIFIED:20160805
UID:17191-1485561600-1485647999@alexandradubois.com
SUMMARY:ALIAS Chamber Ensemble to present Nashville Premiere of du Bois String Quartet
DESCRIPTION:ALIAS Chamber Ensemble will perform chamber music of Alexandra du Bois at OZ Arts Nashville. Information to be announced here September 2016
URL:https://alexandradubois.com/event/alias-chamber-ensemble-presents-nashville-premiere-of-du-bois-string-quartet/
LOCATION:Nashville\, TN\, United States
ATTACH;FMTTYPE=image/jpeg:https://alexandradubois.com/wp-content/uploads/2016/08/4F8F4351-1024x682.jpg
END:VEVENT
END:VCALENDAR