BEGIN:VCALENDAR
VERSION:2.0
PRODID:-//Alexandra du Bois - ECPv4.1.2//NONSGML v1.0//EN
CALSCALE:GREGORIAN
METHOD:PUBLISH
X-WR-CALNAME:Alexandra du Bois
X-ORIGINAL-URL:https://alexandradubois.com
X-WR-CALDESC:Events for Alexandra du Bois
BEGIN:VEVENT
DTSTART;VALUE=DATE:20260216
DTEND;VALUE=DATE:20260216
DTSTAMP:20260424T185137
CREATED:20251006
LAST-MODIFIED:20251010
UID:17852-1771200000-1771286399@alexandradubois.com
SUMMARY:2025-26 Season
DESCRIPTION:Details of 2026 shows to be posted Autumn 2025. Check past performances for details on previous seasons' performances. Highlights for 2025-2026 include premiere performances of now in-progress new works commissioned for soloists Martha Masters\, Zuill Bailey\, Wendy Sutter\, and Tristan Manoukian for Duo Manoukian Jousselme\, as well as premiere performances of her eighth string quartet.
URL:https://alexandradubois.com/event/2025-26-season/
ATTACH;FMTTYPE=image/jpeg:https://alexandradubois.com/wp-content/uploads/2023/05/IMG_1358-1.jpg
END:VEVENT
END:VCALENDAR